BEGIN:VCALENDAR
PRODID:-//kirchenweb.ch gmbh//veranstaltungsausgabe v2.0//DE
VERSION:2.0
METHOD:PUBLISH
BEGIN:VEVENT
DTSTART:20260902T173000Z
DTEND:20260902T183000Z
LOCATION:Evangelisch-Reformierte Kirche Hägendorf\, Bodenmattstrasse 1\,
  4614 Hägendorf
TRANSP:OPAQUE
SEQUENCE:0
UID:28595-veranstaltung@ref-olten.ch
DTSTAMP:20251223T093840Z
DESCRIPTION:Gemeinsam beten wir für unsere Gemeinde.\n\nHerzliche
  Einladung zum Mitmachen.\n\nKontakt: Simone Flückiger\, 079 212 44 25\n
 \nWeitere Infos: https://www.ref-olten.ch/veranstaltung/28595
SUMMARY:Gemeindegebet Untergäu
PRIORITY:5
X-MICROSOFT-CDO-IMPORTANCE:1
CLASS:PUBLIC
END:VEVENT
END:VCALENDAR
