BEGIN:VCALENDAR
PRODID:-//kirchenweb.ch gmbh//veranstaltungsausgabe v2.0//DE
VERSION:2.0
METHOD:PUBLISH
BEGIN:VEVENT
DTSTART:20260423T173000Z
DTEND:20260423T191500Z
LOCATION:Johanneskirche\, Chäppeligass 39\, 4632 Trimbach
TRANSP:OPAQUE
SEQUENCE:0
UID:28613-veranstaltung@ref-olten.ch
DTSTAMP:20251223T165418Z
DESCRIPTION:Gospelchor Trimbach\, Leitung: Markus Koch\n\nAlle
  Interessierten\, die Freude an Gospelmusik und ein Flair fürs Singen
  haben\, sind dazu herzlich eingeladen. Weitere Infos erteilt gerne:
  Andreas Haag\n\nKontakt: Pfarrer Andreas Haag\, 062 293 32 42\n\nWeitere
  Infos: https://www.ref-olten.ch/veranstaltung/28613
SUMMARY:Gospelchor Trimbach
PRIORITY:5
X-MICROSOFT-CDO-IMPORTANCE:1
CLASS:PUBLIC
END:VEVENT
END:VCALENDAR
