BEGIN:VCALENDAR
PRODID:-//kirchenweb.ch gmbh//veranstaltungsausgabe v2.0//DE
VERSION:2.0
METHOD:PUBLISH
BEGIN:VEVENT
DTSTART:20260426T080000Z
DTEND:20260426T090000Z
LOCATION:Johanneskirche\, Chäppeligass 39\, 4632 Trimbach
TRANSP:OPAQUE
SEQUENCE:0
UID:28659-veranstaltung@ref-olten.ch
DTSTAMP:20251227T172445Z
DESCRIPTION:Die "etwas andere Feier" mit viel Musik und kreativen
  Elementen wird vom Createam\, der Musikgruppe unter Leitung von Caesar
  Oetterli und Pfarrer Andreas Haag gestaltet.\nAnschliessend Chilekafi mit
  Zeit für Gespräche und Begegnungen.\nFeiern Sie mit - erleben Sie
  Kirche.\n\nKontakt: Pfarrer Andreas Haag\, 062 293 32 42\n\nWeitere
  Infos: https://www.ref-olten.ch/veranstaltung/28659
SUMMARY:Creagottesdienst in der Johanneskirche Trimbach
PRIORITY:5
X-MICROSOFT-CDO-IMPORTANCE:1
CLASS:PUBLIC
END:VEVENT
END:VCALENDAR
