BEGIN:VCALENDAR
PRODID:-//kirchenweb.ch gmbh//veranstaltungsausgabe v2.0//DE
VERSION:2.0
METHOD:PUBLISH
BEGIN:VEVENT
DTSTART:20260318T083000Z
DTEND:20260318T094500Z
LOCATION:Johanneskirche\, Chäppeligass 39\, 4632 Trimbach
TRANSP:OPAQUE
SEQUENCE:0
UID:28667-veranstaltung@ref-olten.ch
DTSTAMP:20251227T174712Z
DESCRIPTION:Mit der Bibel und miteinander ins Gespräch kommen: \nlesen\,
  nachdenken\, diskutieren\, Entdeckungen teilen\, Neues lernen!\n\nAlle
  sind herzlich eingeladen – unverbindlich\, ohne Anmeldung oder
  Verpflichtung. \nWir beschäftigen uns mit dem Markusevangelium.
 \nWann:	Mittwoch\, 9.30 bis 10.45 Uhr; alle 14 Tage\nWo:   	Im Lukassaal
  der Johanneskirche Trimbach\nInformationen und Leitung: Pfarrer Andreas
  Haag\, 062 293 32 42\n\n\nKontakt: Pfarrer Andreas Haag\, 062 293 32 42\n
 \nWeitere Infos: https://www.ref-olten.ch/veranstaltung/28667
SUMMARY:Bibel im Gespräch
PRIORITY:5
X-MICROSOFT-CDO-IMPORTANCE:1
CLASS:PUBLIC
END:VEVENT
END:VCALENDAR
