BEGIN:VCALENDAR
PRODID:-//kirchenweb.ch gmbh//veranstaltungsausgabe v2.0//DE
VERSION:2.0
METHOD:PUBLISH
BEGIN:VEVENT
DTSTART:20260424T050000Z
DTEND:20260424T053000Z
LOCATION:Johanneskirche\, Chäppeligass 39\, 4632 Trimbach
TRANSP:OPAQUE
SEQUENCE:0
UID:28702-veranstaltung@ref-olten.ch
DTSTAMP:20260101T094854Z
DESCRIPTION:Wir nehmen uns Zeit für das Gebet und schöpfen Kraft aus der
  Stille. Das halbstündige Gebet enthält eine Lesung\, Lieder\, einen
  Psalm im Wechsel\, das «Unser Vater»\, Stille und Zeit für freies
  Gebet (Dank und Fürbitte). Jeweils am Freitagmorgen\, 7 - 7.30 Uhr
  (ausser Schulferien).\n\nWer sich mit dieser Gebetszeit gerne auf den
  neuen Tag einstimmen will\, ist herzlich willkommen!\n\nKontakt: Pfarrer
  Andreas Haag\, 062 293 32 42\n\nWeitere Infos:
  https://www.ref-olten.ch/veranstaltung/28702
SUMMARY:Frühgebet in Trimbach
PRIORITY:5
X-MICROSOFT-CDO-IMPORTANCE:1
CLASS:PUBLIC
END:VEVENT
END:VCALENDAR
