BEGIN:VCALENDAR
PRODID:-//kirchenweb.ch gmbh//veranstaltungsausgabe v2.0//DE
VERSION:2.0
METHOD:PUBLISH
BEGIN:VEVENT
DTSTART:20260222T090000Z
DTEND:20260222T100000Z
LOCATION:Mauritiuskirche Trimbach\, \,
TRANSP:OPAQUE
SEQUENCE:0
UID:28739-veranstaltung@ref-olten.ch
DTSTAMP:20260108T111052Z
DESCRIPTION:Gemeinsam feiern wir den ökumenischen Gottesdienst zur
  Fastenaktion in der Mauritiuskirche. \nDie diesjährige Aktion von "Brot
  für alle" und "Fastenaktion" steht unter dem Motto "Zukunft säen".\nDie
  Feier wird von der Pastoralraumleiterin Andrea Allemann und Pfarrer
  Andreas Haag gestaltet.\n\nKontakt: andreas.haag@ref-olten.ch\n\nWeitere
  Infos: https://www.ref-olten.ch/veranstaltung/28739
SUMMARY:Ökumenischer Gottesdienst zur Fastenaktion in der Mauritiuskirche
  Trimbach
PRIORITY:5
X-MICROSOFT-CDO-IMPORTANCE:1
CLASS:PUBLIC
END:VEVENT
END:VCALENDAR
