BEGIN:VCALENDAR
PRODID:-//kirchenweb.ch gmbh//veranstaltungsausgabe v2.0//DE
VERSION:2.0
METHOD:PUBLISH
BEGIN:VEVENT
DTSTART:20260405T043000Z
DTEND:20260405T053000Z
LOCATION:Johanneskirche\, Chäppeligass 39\, 4632 Trimbach
TRANSP:OPAQUE
SEQUENCE:0
UID:28742-veranstaltung@ref-olten.ch
DTSTAMP:20260103T075915Z
DESCRIPTION:6.30 Uhr: Ostermorgenfeier mit Osterfeuer\, Osterweg und
  Osterzmorge\nDie Feier beginnt am Osterfeuer vor der Johanneskirche.
  Danach führt ein kurzer Rundweg die Mitfeiernden zum Dellenpark und
  über den Friedhof zurück zum Osterfeuer und in die Kirche. \nDort geht
  die Feier in ein reichhaltiges Osterzmorge über.\n\n\n\nKontakt: Pfarrer
  Andreas Haag\, 062 293 32 42\n\nWeitere Infos:
  https://www.ref-olten.ch/veranstaltung/28742
SUMMARY:Osterfrühfeier in Trimbach
PRIORITY:5
X-MICROSOFT-CDO-IMPORTANCE:1
CLASS:PUBLIC
END:VEVENT
END:VCALENDAR
