BEGIN:VCALENDAR
PRODID:-//kirchenweb.ch gmbh//veranstaltungsausgabe v2.0//DE
VERSION:2.0
METHOD:PUBLISH
BEGIN:VEVENT
DTSTART:20260405T080000Z
DTEND:20260405T090000Z
LOCATION:Johanneskirche\, Chäppeligass 39\, 4632 Trimbach
TRANSP:OPAQUE
SEQUENCE:0
UID:28743-veranstaltung@ref-olten.ch
DTSTAMP:20260103T080056Z
DESCRIPTION:Die Feier wird vom Gospelchor Trimbach\, dem Createam und
  Pfarrer Andreas Haag gestaltet. \nDie mitreissenden Ostergospels\,
  begleitet von Markus Koch am Flügel\, ein kurzes Anspiel und die Feier
  des Abendmahls lassen die Osterfreude mit allen Sinnen erfahren. 
 \nAnschliessend Eierdütsche\, Apéro und Ostereiersuche auf dem
  Kirchplatz!\n\n\n\nKontakt: andreas.haag@ref-olten.ch\n\nWeitere Infos:
  https://www.ref-olten.ch/veranstaltung/28743
SUMMARY:Ostergottesdienst in Trimbach mit dem Gospelchor
PRIORITY:5
X-MICROSOFT-CDO-IMPORTANCE:1
CLASS:PUBLIC
END:VEVENT
END:VCALENDAR
