BEGIN:VCALENDAR
PRODID:-//kirchenweb.ch gmbh//veranstaltungsausgabe v2.0//DE
VERSION:2.0
METHOD:PUBLISH
BEGIN:VEVENT
DTSTART:20260816T080000Z
DTEND:20260816T090000Z
LOCATION:Johanneskirche\, Chäppeligass 39\, 4632 Trimbach
TRANSP:OPAQUE
SEQUENCE:0
UID:28753-veranstaltung@ref-olten.ch
DTSTAMP:20260105T130918Z
DESCRIPTION:Alle Kinder\, Jugendliche und Erwachsene sind herzlich
  eingeladen zu diesem besonderen Gottesdienst zum Schulanfang\,
  insbesondere die Mädchen und Buben der 1. Klasse.\nDie Feier wird
  gestaltet von der Religionslehrerin Monika Böschenstein\, der
  Diakonischen Mitarbeiterin Siân Surer und Pfarrer Andreas Haag.
 \nAnschliessend sind alle herzlich zum Apéro eingeladen.\n\nKontakt:
  Pfarrer Andreas Haag\, 062 293 32 42\n\nWeitere Infos:
  https://www.ref-olten.ch/veranstaltung/28753
SUMMARY:Ökumenischer Gottesdienst zum Schulanfang mit Chille mit Chind
PRIORITY:5
X-MICROSOFT-CDO-IMPORTANCE:1
CLASS:PUBLIC
END:VEVENT
END:VCALENDAR
