BEGIN:VCALENDAR
PRODID:-//kirchenweb.ch gmbh//veranstaltungsausgabe v2.0//DE
VERSION:2.0
METHOD:PUBLISH
BEGIN:VEVENT
DTSTART:20260924T074500Z
DTEND:20260924T084500Z
LOCATION:Alterszentrum Marienheim\, In der Ey 24\, 4612 Wangen b. Olten
TRANSP:OPAQUE
SEQUENCE:0
UID:28823-veranstaltung@ref-olten.ch
DTSTAMP:20260203T102322Z
DESCRIPTION:Jeden zweiten Donnerstag findet eine Seniorenandacht statt.
 \nOffen für alle\, jedermann ist herzlich willkommen!\n\nKontakt:
  Pfarrerin Melanie Ludwig\, 062 212 48 84\n\nWeitere Infos:
  https://www.ref-olten.ch/veranstaltung/28823
SUMMARY:Seniorenandacht im Alterszentrum Marienheim Wangen
PRIORITY:5
X-MICROSOFT-CDO-IMPORTANCE:1
CLASS:PUBLIC
END:VEVENT
END:VCALENDAR
