BEGIN:VCALENDAR
PRODID:-//kirchenweb.ch gmbh//veranstaltungsausgabe v2.0//DE
VERSION:2.0
METHOD:PUBLISH
BEGIN:VEVENT
DTSTART:20260624T100000Z
DTEND:20260624T113000Z
LOCATION:Zwinglikirche\, Kleinfeld 2A\, 4657 Dulliken
TRANSP:OPAQUE
SEQUENCE:0
UID:28871-veranstaltung@ref-olten.ch
DTSTAMP:20260226T150510Z
DESCRIPTION:ökum. Frauengemeinschaft\n\nKontakt: Margrit Gürel\n
 \nWeitere Infos: https://www.ref-olten.ch/veranstaltung/28871
SUMMARY:Zäme ässe
PRIORITY:5
X-MICROSOFT-CDO-IMPORTANCE:1
CLASS:PUBLIC
END:VEVENT
END:VCALENDAR
