BEGIN:VCALENDAR
PRODID:-//kirchenweb.ch gmbh//veranstaltungsausgabe v2.0//DE
VERSION:2.0
METHOD:PUBLISH
BEGIN:VEVENT
DTSTART:20260530T120000Z
DTEND:20260530T150000Z
LOCATION:Brunnen Pausenplatz Schulhaus Hinterbüel\, Hinterbüelstrasse
  41\, 4612 Wangen bei Olten
TRANSP:OPAQUE
SEQUENCE:0
UID:28880-veranstaltung@ref-olten.ch
DTSTAMP:20260325T003742Z
DESCRIPTION:Auch heute werden wir den ganzen Nachmittag draussen
  verbringen und ein tolles Programm erleben.\n\nAllgemeine Infos zur
  Jungschi OmG sind auf unserer Infoseite zu finden:
  https://www.ref-olten.ch/untergaeu-jungschi-omg\,\nz.B. Hinweise zum
  Treffpunkt\, was du mitnehmen kannst und die weiteren Daten\n\nWir freuen
  uns\, wenn auch du dabei bist und mit uns einen spannenden Nachmittag
  erlebst.\n\nKontakt: Sozialdiakonin Manuela Schällmann\,
  Grossmattstrasse 4\, 4614 Hägendorf\, manuela.schaellmann@ref-olten.ch\,
  062 216 18 26\nMatthias Hunn\, matthias.hunn@ref-olten.ch\n\nWeitere
  Infos: https://www.ref-olten.ch/veranstaltung/28880
SUMMARY:Jungschi OmG
PRIORITY:5
X-MICROSOFT-CDO-IMPORTANCE:1
CLASS:PUBLIC
END:VEVENT
END:VCALENDAR
