BEGIN:VCALENDAR
PRODID:-//kirchenweb.ch gmbh//veranstaltungsausgabe v2.0//DE
VERSION:2.0
METHOD:PUBLISH
BEGIN:VEVENT
DTSTART:20260218T183000Z
DTEND:20260218T200000Z
LOCATION:Friedenskirche\, Reiserstrasse 89\, 4600 Olten
TRANSP:OPAQUE
SEQUENCE:0
UID:28885-veranstaltung@ref-olten.ch
DTSTAMP:20260115T181958Z
DESCRIPTION:Unter jungen Leuten wächst wieder das Interesse an der Bibel.
  Warum nicht gemeinsam etwas lesen und kennenlernen? Ein erstes Treffen
  zur Klärung der Bedüfnisse und um eine Kostprobe zuerhalten. Für Leute
  zwischen 16 und 25. Wir machen es uns gemütlich in der Sitzecke des
  Zehndersaals\n\nKontakt: Pfr. Uwe Kaiser\, 062 296 22 60\n\nWeitere
  Infos: https://www.ref-olten.ch/veranstaltung/28885
SUMMARY:Projekt Bibellese für junge Menschen
PRIORITY:5
X-MICROSOFT-CDO-IMPORTANCE:1
CLASS:PUBLIC
END:VEVENT
END:VCALENDAR
