BEGIN:VCALENDAR
PRODID:-//kirchenweb.ch gmbh//veranstaltungsausgabe v2.0//DE
VERSION:2.0
METHOD:PUBLISH
BEGIN:VEVENT
DTSTART:20261218T160000Z
DTEND:20261218T190000Z
LOCATION:Evangelisch-Reformierte Kirche Hägendorf\, Bodenmattstrasse 1\,
  4614 Hägendorf
TRANSP:OPAQUE
SEQUENCE:0
UID:28901-veranstaltung@ref-olten.ch
DTSTAMP:20260121T120321Z
DESCRIPTION:Kontakt: manuela.schaellmann@ref-olten.ch\n\nWeitere Infos:
  https://www.ref-olten.ch/veranstaltung/28901
SUMMARY:Probe Weihnachtsmusical
PRIORITY:5
X-MICROSOFT-CDO-IMPORTANCE:1
CLASS:PUBLIC
END:VEVENT
END:VCALENDAR
