BEGIN:VCALENDAR
PRODID:-//kirchenweb.ch gmbh//veranstaltungsausgabe v2.0//DE
VERSION:2.0
METHOD:PUBLISH
BEGIN:VEVENT
DTSTART;VALUE=DATE:20260618
DTEND;VALUE=DATE:20260619
LOCATION:Johanneskirche\, Chäppeligass 39\, 4632 Trimbach
TRANSP:OPAQUE
SEQUENCE:0
UID:28914-veranstaltung@ref-olten.ch
DTSTAMP:20260126T184451Z
DESCRIPTION:Einladung mit Details folgt ;-)\n\nKontakt: Ursula Rutschi\,
  062 293 30 62\n\nWeitere Infos:
  https://www.ref-olten.ch/veranstaltung/28914
SUMMARY:Ökum. Frauengemeinschaft Trimbach - Reise
PRIORITY:5
X-MICROSOFT-CDO-IMPORTANCE:1
CLASS:PUBLIC
END:VEVENT
END:VCALENDAR
