BEGIN:VCALENDAR
PRODID:-//kirchenweb.ch gmbh//veranstaltungsausgabe v2.0//DE
VERSION:2.0
METHOD:PUBLISH
BEGIN:VEVENT
DTSTART:20260820T120000Z
DTEND:20260820T130000Z
LOCATION:Römisch-katholische St. Mauritiuskirche\, Baslerstrasse\, 4632
  Trimbach
TRANSP:OPAQUE
SEQUENCE:0
UID:28915-veranstaltung@ref-olten.ch
DTSTAMP:20260126T185228Z
DESCRIPTION:Ein Nachmittag mit Adrian Bolzern Seelsorger Pastoralraum
  Olten zum Thema «Die Welt ist der grösste Zirkus»\n\nKontakt: Ursula
  Rutschi\, 062 293 30 62\n\nWeitere Infos:
  https://www.ref-olten.ch/veranstaltung/28915
SUMMARY:Ökum. Frauengemeinschaft Trimbach - mit Adrian Bolzern
PRIORITY:5
X-MICROSOFT-CDO-IMPORTANCE:1
CLASS:PUBLIC
END:VEVENT
END:VCALENDAR
