BEGIN:VCALENDAR
PRODID:-//kirchenweb.ch gmbh//veranstaltungsausgabe v2.0//DE
VERSION:2.0
METHOD:PUBLISH
BEGIN:VEVENT
DTSTART:20261029T130000Z
DTEND:20261029T140000Z
LOCATION:Römisch-katholische St. Mauritiuskirche\, Baslerstrasse\, 4632
  Trimbach
TRANSP:OPAQUE
SEQUENCE:0
UID:28918-veranstaltung@ref-olten.ch
DTSTAMP:20260126T185105Z
DESCRIPTION:Mauritiusstube: Vortrag über Effektive Mikroorganismen (EM).
 \n\nKontakt: Ursula Rutschi\, 062 293 30 62\n\nWeitere Infos:
  https://www.ref-olten.ch/veranstaltung/28918
SUMMARY:Ökum. Frauengemeinschaft Trimbach - Vortrag
PRIORITY:5
X-MICROSOFT-CDO-IMPORTANCE:1
CLASS:PUBLIC
END:VEVENT
END:VCALENDAR
