BEGIN:VCALENDAR
PRODID:-//kirchenweb.ch gmbh//veranstaltungsausgabe v2.0//DE
VERSION:2.0
METHOD:PUBLISH
BEGIN:VEVENT
DTSTART:20260418T160000Z
DTEND:20260418T163000Z
LOCATION:St. Martinskirche\, Chorraum\, Ringstrasse 38\, 4600 Olten
TRANSP:OPAQUE
SEQUENCE:0
UID:28921-veranstaltung@ref-olten.ch
DTSTAMP:20260127T082309Z
DESCRIPTION:Liturgische Feier nach dem Vorbild der ökumenischen
  Gemeinschaft in Taizé. Mit viel Gesang und meditativen Elementen. \n
 \nKontakt: Pfr. Uwe Kaiser\, 062 296 22 60\n\nWeitere Infos:
  https://www.ref-olten.ch/veranstaltung/28921
SUMMARY:Taizé Feier ökumenisch
PRIORITY:5
X-MICROSOFT-CDO-IMPORTANCE:1
CLASS:PUBLIC
END:VEVENT
END:VCALENDAR
