BEGIN:VCALENDAR
PRODID:-//kirchenweb.ch gmbh//veranstaltungsausgabe v2.0//DE
VERSION:2.0
METHOD:PUBLISH
BEGIN:VEVENT
DTSTART:20260423T080000Z
DTEND:20260423T082000Z
LOCATION:Klosterkirche Olten\, Klosterplatz 12\, 4600 Olten
TRANSP:OPAQUE
SEQUENCE:0
UID:28935-veranstaltung@ref-olten.ch
DTSTAMP:20260127T083034Z
DESCRIPTION:Gebet für den Frieden. 20 Minuten innehalten während der
  Marktzeit. \nGeleitet von einem ökumenischen Team\n\nKontakt: Eveline
  Schärli\n\nWeitere Infos: https://www.ref-olten.ch/veranstaltung/28935
SUMMARY:Friedensgebet
PRIORITY:5
X-MICROSOFT-CDO-IMPORTANCE:1
CLASS:PUBLIC
END:VEVENT
END:VCALENDAR
