BEGIN:VCALENDAR
PRODID:-//kirchenweb.ch gmbh//veranstaltungsausgabe v2.0//DE
VERSION:2.0
METHOD:PUBLISH
BEGIN:VEVENT
DTSTART:20260421T173000Z
DTEND:20260421T183000Z
LOCATION:Evangelisch-Reformierte Kirche Wangen\, Mittelgäustrasse 19\,
  4612 Wangen
TRANSP:OPAQUE
SEQUENCE:0
UID:28999-veranstaltung@ref-olten.ch
DTSTAMP:20260129T095722Z
DESCRIPTION:Vorstandssitzung Kirchenkreis Untergäu\n\nKontakt: Lisbeth
  Walder\, Allmendstrasse 42\, 4612 Wangen b. Olten\,
  lisbeth.walder@ref-olten.ch\, 079 613 91 17\n\nWeitere Infos:
  https://www.ref-olten.ch/veranstaltung/28999
SUMMARY:KiVo-Sitzung in Wangen
PRIORITY:5
X-MICROSOFT-CDO-IMPORTANCE:1
CLASS:PUBLIC
END:VEVENT
END:VCALENDAR
