BEGIN:VCALENDAR
PRODID:-//kirchenweb.ch gmbh//veranstaltungsausgabe v2.0//DE
VERSION:2.0
METHOD:PUBLISH
BEGIN:VEVENT
DTSTART:20260421T173000Z
DTEND:20260421T193000Z
LOCATION:Johanneskirche\, Chäppeligass 39\, 4632 Trimbach
TRANSP:OPAQUE
SEQUENCE:0
UID:29062-veranstaltung@ref-olten.ch
DTSTAMP:20260204T085640Z
DESCRIPTION:Kontakt: andreas.haag@ref-olten.ch\n\nWeitere Infos:
  https://www.ref-olten.ch/veranstaltung/29062
SUMMARY:Gospelchorprobe im Johannessaal
PRIORITY:5
X-MICROSOFT-CDO-IMPORTANCE:1
CLASS:PUBLIC
END:VEVENT
END:VCALENDAR
