BEGIN:VCALENDAR
PRODID:-//kirchenweb.ch gmbh//veranstaltungsausgabe v2.0//DE
VERSION:2.0
METHOD:PUBLISH
BEGIN:VEVENT
DTSTART:20260212T170000Z
DTEND:20260212T183000Z
LOCATION:Pauluskirche\, Grundstrasse 18\, 4600 Olten
TRANSP:OPAQUE
SEQUENCE:0
UID:29075-veranstaltung@ref-olten.ch
DTSTAMP:20260209T084744Z
DESCRIPTION:Kontakt: susanne.gysin@ref-olten.ch\n\nWeitere Infos:
  https://www.ref-olten.ch/veranstaltung/29075
SUMMARY:Sitzung KiVo
PRIORITY:5
X-MICROSOFT-CDO-IMPORTANCE:1
CLASS:PUBLIC
END:VEVENT
END:VCALENDAR
