BEGIN:VCALENDAR
PRODID:-//kirchenweb.ch gmbh//veranstaltungsausgabe v2.0//DE
VERSION:2.0
METHOD:PUBLISH
BEGIN:VEVENT
DTSTART:20261121T080000Z
DTEND:20261121T130000Z
LOCATION:Zwinglikirche\, Kleinfeld 2A\, 4657 Dulliken
TRANSP:OPAQUE
SEQUENCE:0
UID:29076-veranstaltung@ref-olten.ch
DTSTAMP:20260330T161841Z
DESCRIPTION:Mit Bhikku Suy Sovann\, Imam Kerem Adigüzel und Pfarrer
  Sascha Thiel. Einführung und Praxis der Meditation aus buddhistischer\,
  islamischer und christlicher Perspektive. \n\nMit Mittagessen (vegan). \n
 \nKontakt: Pfarrer Sascha Thiel\, 062 295 43 53\n\nWeitere Infos:
  https://www.ref-olten.ch/veranstaltung/29076
SUMMARY:Meditations-Retreat
PRIORITY:5
X-MICROSOFT-CDO-IMPORTANCE:1
CLASS:PUBLIC
END:VEVENT
END:VCALENDAR
