BEGIN:VCALENDAR
PRODID:-//kirchenweb.ch gmbh//veranstaltungsausgabe v2.0//DE
VERSION:2.0
METHOD:PUBLISH
BEGIN:VEVENT
DTSTART:20260508T150000Z
DTEND:20260508T190000Z
LOCATION:Römisch-Katholischer Pfarreisaal\, Kirchweg 1\, 4652 Winznau
TRANSP:OPAQUE
SEQUENCE:0
UID:29089-veranstaltung@ref-olten.ch
DTSTAMP:20260211T110845Z
DESCRIPTION:Wer?: Kinder und Jugendliche von 10 bis 16 Jahren.\nWann?: von
  17 bis 21:30 Uhr\n\nDer Chrüpfeträff wurde verschoben. Neu findet ab
  2025 der Jugendtreff im Kirchgemeindehaus in Winznau sein neues Zuhause.
 \n\nLust auf einen chilligen Abend mit Freunden\, Snacks\, Fussball und
  verschiedenen Spielen? Komm vorbei und bring deine Freunde gleich mit!
 \nEs gibt noch kein Abendessen\, aber reichlich Snacks. Mikrowelle und
  Ofen sind vorhanden\, falls du etwas zum Essen mitbringen möchtest. :)\n
 \nDu hast eine Idee\, was den Jugendtreff besser machen könnte? Dann
  erzähl es mir und wir schauen\, was sich machen lässt!\n\nKontakt:
  Sozialdiakonin Sian Surer\, 062 295 42 12\n\nWeitere Infos:
  https://www.ref-olten.ch/veranstaltung/29089
SUMMARY:Jugendtreff Winznau
PRIORITY:5
X-MICROSOFT-CDO-IMPORTANCE:1
CLASS:PUBLIC
END:VEVENT
END:VCALENDAR
