BEGIN:VCALENDAR
PRODID:-//kirchenweb.ch gmbh//veranstaltungsausgabe v2.0//DE
VERSION:2.0
METHOD:PUBLISH
BEGIN:VEVENT
DTSTART:20270131T090000Z
DTEND:20270131T100000Z
LOCATION:Zwinglikirche\, Kleinfeld 2A\, 4657 Dulliken
TRANSP:OPAQUE
SEQUENCE:0
UID:29123-veranstaltung@ref-olten.ch
DTSTAMP:20260223T081420Z
DESCRIPTION:Seit der Steinzeit gehören Haustiere zum kultivierten
  Menschsein dazu. Als treue Gefährtinnen und Gefährten begleiten sie uns
  auf unserem Weg des Lebens. So stürzen uns ihr Sterben und ihr Tod in
  Verwirrung und Trauer. Dieses wertvolle Leben zu würdigen und ihrer
  liebevoll zu gedenken im Wissen um Gottes Sorge für seine ganze
  Schöpfung steht im Mittelpunkt dieses Gottesdienstes.  \n\nKontakt:
  Pfarrer Sascha Thiel\, 062 295 43 53\n\nWeitere Infos:
  https://www.ref-olten.ch/veranstaltung/29123
SUMMARY:Interreligiöse Gedenkfeier für verstorbene Haustiere (Runder
  Tisch der Religionen)
PRIORITY:5
X-MICROSOFT-CDO-IMPORTANCE:1
CLASS:PUBLIC
END:VEVENT
END:VCALENDAR
