BEGIN:VCALENDAR
PRODID:-//kirchenweb.ch gmbh//veranstaltungsausgabe v2.0//DE
VERSION:2.0
METHOD:PUBLISH
BEGIN:VEVENT
DTSTART:20260627T140000Z
DTEND:20260627T180000Z
LOCATION:Zwinglikirche\, Kleinfeld 2A\, 4657 Dulliken
TRANSP:OPAQUE
SEQUENCE:0
UID:29133-veranstaltung@ref-olten.ch
DTSTAMP:20260224T134801Z
DESCRIPTION:ChliChind Chile Gottesdienst\, Spielen und Basteln für
  Familien mit Kindern von 0-5 Jahren\n\nSommerfest\n\nKontakt: Beat
  Bachmann\, Diakonischer Mitarbeiter\, 076 522 41 89\n\nWeitere Infos:
  https://www.ref-olten.ch/veranstaltung/29133
SUMMARY:Chlichind Chile Sommerfest
PRIORITY:5
X-MICROSOFT-CDO-IMPORTANCE:1
CLASS:PUBLIC
END:VEVENT
END:VCALENDAR
