BEGIN:VCALENDAR
PRODID:-//kirchenweb.ch gmbh//veranstaltungsausgabe v2.0//DE
VERSION:2.0
METHOD:PUBLISH
BEGIN:VEVENT
DTSTART:20260311T133000Z
DTEND:20260311T143000Z
LOCATION:Brüggli Dulliken\, \,  Dulliken
TRANSP:OPAQUE
SEQUENCE:0
UID:29134-veranstaltung@ref-olten.ch
DTSTAMP:20260224T160436Z
DESCRIPTION:Auftritt des Treffpunkt Chörlis im Altersheim Brüggli\,
  Dulliken \n\nKontakt: Röbi Theler\, 062 216 19 33\n\nWeitere Infos:
  https://www.ref-olten.ch/veranstaltung/29134
SUMMARY:aktiv 66+ Treffpunkt-Chörli Auftritt
PRIORITY:5
X-MICROSOFT-CDO-IMPORTANCE:1
CLASS:PUBLIC
END:VEVENT
END:VCALENDAR
