BEGIN:VCALENDAR
PRODID:-//kirchenweb.ch gmbh//veranstaltungsausgabe v2.0//DE
VERSION:2.0
METHOD:PUBLISH
BEGIN:VEVENT
DTSTART:20260507T123000Z
DTEND:20260507T133000Z
LOCATION:Alterheim Stadtpark Olten\, \,  Dulliken
TRANSP:OPAQUE
SEQUENCE:0
UID:29135-veranstaltung@ref-olten.ch
DTSTAMP:20260224T160526Z
DESCRIPTION:Auftritt des Treffpunkt Chörlis im Altersheim Stadtpark\,
  Olten \n\nKontakt: Röbi Theler\, 062 216 19 33\n\nWeitere Infos:
  https://www.ref-olten.ch/veranstaltung/29135
SUMMARY:aktiv 66+ Treffpunkt-Chörli Auftritt
PRIORITY:5
X-MICROSOFT-CDO-IMPORTANCE:1
CLASS:PUBLIC
END:VEVENT
END:VCALENDAR
