BEGIN:VCALENDAR
PRODID:-//kirchenweb.ch gmbh//veranstaltungsausgabe v2.0//DE
VERSION:2.0
METHOD:PUBLISH
BEGIN:VEVENT
DTSTART:20260909T123000Z
DTEND:20260909T133000Z
LOCATION:Marienheim Wangen\, \,  Dulliken
TRANSP:OPAQUE
SEQUENCE:0
UID:29136-veranstaltung@ref-olten.ch
DTSTAMP:20260224T160607Z
DESCRIPTION:Auftritt des Treffpunkt Chörlis im Marienheim in Wangen bei
  Olten \n\nKontakt: Röbi Theler\, 062 216 19 33\n\nWeitere Infos:
  https://www.ref-olten.ch/veranstaltung/29136
SUMMARY:aktiv 66+ Treffpunkt-Chörli Auftritt
PRIORITY:5
X-MICROSOFT-CDO-IMPORTANCE:1
CLASS:PUBLIC
END:VEVENT
END:VCALENDAR
