BEGIN:VCALENDAR
PRODID:-//kirchenweb.ch gmbh//veranstaltungsausgabe v2.0//DE
VERSION:2.0
METHOD:PUBLISH
BEGIN:VEVENT
DTSTART:20260405T043000Z
DTEND:20260405T070000Z
LOCATION:Start auf dem Friedhof Meisenhard\, quer durch Olten\, \, 4600
  Olten
TRANSP:OPAQUE
SEQUENCE:0
UID:29151-veranstaltung@ref-olten.ch
DTSTAMP:20260325T141654Z
DESCRIPTION:Osterweg\nUnterwegs zum Leben - Unterwegs mit dem Herrn! 
 \nStation um Station sind wir der Osterbotschaft auf  der Spur\, ausgehend
  vom Friedhof quer durch die Stadt. Der Einstieg oder Ausstieg ist bei
  jeder Station möglich.\nStartpunkt ist der Friedhof Meisenhard um 6.30
 \nWeg zum Käppeli\, dann \nca 7.15 in der  Kapelle der Friedenskirche
  (ca. 7.15)\nUm 7.45 ökumenisches Treffen im Klostergarten mit der
  Osterliturgie im Kloster\n8.30 Zmorge im Saal der Pauluskirche\n10.00
  Gottesdienst mit Osterspiel\n \n\n\n\n\nKontakt: Pfr. Uwe Kaiser\, 062
  296 22 60\n\nWeitere Infos: https://www.ref-olten.ch/veranstaltung/29151
SUMMARY:Ostermorgenweg
PRIORITY:5
X-MICROSOFT-CDO-IMPORTANCE:1
CLASS:PUBLIC
END:VEVENT
END:VCALENDAR
