BEGIN:VCALENDAR
PRODID:-//kirchenweb.ch gmbh//veranstaltungsausgabe v2.0//DE
VERSION:2.0
METHOD:PUBLISH
BEGIN:VEVENT
DTSTART:20260424T160000Z
DTEND:20260424T173000Z
LOCATION:Pauluskirche\, Grundstrasse 18\, 4600 Olten
TRANSP:OPAQUE
SEQUENCE:0
UID:29350-veranstaltung@ref-olten.ch
DTSTAMP:20260306T142750Z
DESCRIPTION:„Es gibt nichts\, was uns die Abwesenheit eines lieben
  Menschen ersetzen kann\, und man soll es auch erst gar nicht versuchen.
  (…) denn indem die Lücke unausgefüllt bleibt\, bleibt man durch sie
  miteinander verbunden.“   (Dietrich Bonhoeffer)\n                      
                                           \nHerzlich lade ich Sie ein\,   
                                                    \nmit Menschen ins
  Gespräch zu kommen\, die eine ähnliche Situation durchleben wie Sie!   
                                                        \nWir wollen Zeit
  miteinander teilen\,                                              
 \neinander zuhören\,                                                     
                   \nKraft schöpfen und                                   
                                         \nNeuorientierung finden.\n\nIch
  freue mich auf Sie! \n\n\nKontakt: Pfrn. Melanie Ludwig\, 062 212 48 84\n
 \nWeitere Infos: https://www.ref-olten.ch/veranstaltung/29350
SUMMARY:Trauercafé
PRIORITY:5
X-MICROSOFT-CDO-IMPORTANCE:1
CLASS:PUBLIC
END:VEVENT
END:VCALENDAR
