BEGIN:VCALENDAR
PRODID:-//kirchenweb.ch gmbh//veranstaltungsausgabe v2.0//DE
VERSION:2.0
METHOD:PUBLISH
BEGIN:VEVENT
DTSTART:20261028T130000Z
DTEND:20261028T150000Z
LOCATION:Johanneskirche\, Chäppeligass 39\, 4632 Trimbach
TRANSP:OPAQUE
SEQUENCE:0
UID:29351-veranstaltung@ref-olten.ch
DTSTAMP:20260307T132113Z
DESCRIPTION:Kontakt: Pfarrer Andreas Haag\, 062 293 32 42\n\nWeitere
  Infos: https://www.ref-olten.ch/veranstaltung/29351
SUMMARY:Spurensuche: Modul
PRIORITY:5
X-MICROSOFT-CDO-IMPORTANCE:1
CLASS:PUBLIC
END:VEVENT
END:VCALENDAR
