BEGIN:VCALENDAR
PRODID:-//kirchenweb.ch gmbh//veranstaltungsausgabe v2.0//DE
VERSION:2.0
METHOD:PUBLISH
BEGIN:VEVENT
DTSTART:20270303T130000Z
DTEND:20270303T150000Z
LOCATION:Johanneskirche\, Chäppeligass 39\, 4632 Trimbach
TRANSP:OPAQUE
SEQUENCE:0
UID:29353-veranstaltung@ref-olten.ch
DTSTAMP:20260307T132808Z
DESCRIPTION:Kontakt: andreas.haag@ref-olten.ch\n\nWeitere Infos:
  https://www.ref-olten.ch/veranstaltung/29353
SUMMARY:Spurensuche - Modul zu Sucht
PRIORITY:5
X-MICROSOFT-CDO-IMPORTANCE:1
CLASS:PUBLIC
END:VEVENT
END:VCALENDAR
