BEGIN:VCALENDAR
PRODID:-//kirchenweb.ch gmbh//veranstaltungsausgabe v2.0//DE
VERSION:2.0
METHOD:PUBLISH
BEGIN:VEVENT
DTSTART:20260427T120000Z
DTEND:20260427T150000Z
LOCATION:Röm.-kath. Pfarrei St. Wendelin\, Dulliken\, Bahnhofstrasse 44\,
  4657 Dulliken
TRANSP:OPAQUE
SEQUENCE:0
UID:29427-veranstaltung@ref-olten.ch
DTSTAMP:20260310T145132Z
DESCRIPTION:Kraft und Entspannung\, separate Einladung\n\nKontakt: Margrit
  Gürel\n\nWeitere Infos: https://www.ref-olten.ch/veranstaltung/29427
SUMMARY:ökum.Frauengem.
PRIORITY:5
X-MICROSOFT-CDO-IMPORTANCE:1
CLASS:PUBLIC
END:VEVENT
END:VCALENDAR
