BEGIN:VCALENDAR
PRODID:-//kirchenweb.ch gmbh//veranstaltungsausgabe v2.0//DE
VERSION:2.0
METHOD:PUBLISH
BEGIN:VEVENT
DTSTART;VALUE=DATE:20260511
DTEND;VALUE=DATE:20260512
LOCATION:Röm.-kath. Pfarrei St. Wendelin\, Dulliken\, Bahnhofstrasse 44\,
  4657 Dulliken
TRANSP:OPAQUE
SEQUENCE:0
UID:29428-veranstaltung@ref-olten.ch
DTSTAMP:20260310T145306Z
DESCRIPTION:Ausflug mit separater Einladung\n\nKontakt: Margrit Gürel\n
 \nWeitere Infos: https://www.ref-olten.ch/veranstaltung/29428
SUMMARY:ökum.Frauengem. Ausflug
PRIORITY:5
X-MICROSOFT-CDO-IMPORTANCE:1
CLASS:PUBLIC
END:VEVENT
END:VCALENDAR
