BEGIN:VCALENDAR
PRODID:-//kirchenweb.ch gmbh//veranstaltungsausgabe v2.0//DE
VERSION:2.0
METHOD:PUBLISH
BEGIN:VEVENT
DTSTART:20260921T163000Z
DTEND:20260921T190000Z
LOCATION:Röm.-kath. Pfarrei St. Wendelin\, Dulliken\, Bahnhofstrasse 44\,
  4657 Dulliken
TRANSP:OPAQUE
SEQUENCE:0
UID:29431-veranstaltung@ref-olten.ch
DTSTAMP:20260409T120542Z
DESCRIPTION:Ladies Night "Film"\n\nKontakt: Margrit Gürel\n\nWeitere
  Infos: https://www.ref-olten.ch/veranstaltung/29431
SUMMARY:ökum. Frauengemeinschaft
PRIORITY:5
X-MICROSOFT-CDO-IMPORTANCE:1
CLASS:PUBLIC
END:VEVENT
END:VCALENDAR
