BEGIN:VCALENDAR
PRODID:-//kirchenweb.ch gmbh//veranstaltungsausgabe v2.0//DE
VERSION:2.0
METHOD:PUBLISH
BEGIN:VEVENT
DTSTART:20261209T110000Z
DTEND:20261209T130000Z
LOCATION:Röm.-kath. Pfarrei St. Wendelin\, Dulliken\, Bahnhofstrasse 44\,
  4657 Dulliken
TRANSP:OPAQUE
SEQUENCE:0
UID:29434-veranstaltung@ref-olten.ch
DTSTAMP:20260409T093824Z
DESCRIPTION:zäme ässe\n\nKontakt: Margrit Gürel\n\nWeitere Infos:
  https://www.ref-olten.ch/veranstaltung/29434
SUMMARY:zäme ässe
PRIORITY:5
X-MICROSOFT-CDO-IMPORTANCE:1
CLASS:PUBLIC
END:VEVENT
END:VCALENDAR
