BEGIN:VCALENDAR
PRODID:-//kirchenweb.ch gmbh//veranstaltungsausgabe v2.0//DE
VERSION:2.0
METHOD:PUBLISH
BEGIN:VEVENT
DTSTART:20260506T100000Z
DTEND:20260506T113000Z
LOCATION:Röm.-kath. Pfarrei St. Wendelin\, Dulliken\, Bahnhofstrasse 44\,
  4657Dullik
TRANSP:OPAQUE
SEQUENCE:0
UID:29438-veranstaltung@ref-olten.ch
DTSTAMP:20260310T151946Z
DESCRIPTION:ökum. Frauengemeinschaft\n\nKontakt: Margrit GüreL\n
 \nWeitere Infos: https://www.ref-olten.ch/veranstaltung/29438
SUMMARY:Zäme ässe
PRIORITY:5
X-MICROSOFT-CDO-IMPORTANCE:1
CLASS:PUBLIC
END:VEVENT
END:VCALENDAR
