BEGIN:VCALENDAR
PRODID:-//kirchenweb.ch gmbh//veranstaltungsausgabe v2.0//DE
VERSION:2.0
METHOD:PUBLISH
BEGIN:VEVENT
DTSTART:20260424T150000Z
DTEND:20260424T183000Z
LOCATION:Pauluskirche\, Grundstrasse 18\, 4600 Olten
TRANSP:OPAQUE
SEQUENCE:0
UID:29439-veranstaltung@ref-olten.ch
DTSTAMP:20260310T205637Z
DESCRIPTION:Kontakt: Pfrn. Melanie Ludwig\, 062 212 48 84\n\nWeitere
  Infos: https://www.ref-olten.ch/veranstaltung/29439
SUMMARY:Trauercafé
PRIORITY:5
X-MICROSOFT-CDO-IMPORTANCE:1
CLASS:PUBLIC
END:VEVENT
END:VCALENDAR
