BEGIN:VCALENDAR
PRODID:-//kirchenweb.ch gmbh//veranstaltungsausgabe v2.0//DE
VERSION:2.0
METHOD:PUBLISH
BEGIN:VEVENT
DTSTART:20260529T160000Z
DTEND:20260529T173000Z
LOCATION:Pauluskirche\, Grundstrasse 18\, 4600 Olten
TRANSP:OPAQUE
SEQUENCE:0
UID:29440-veranstaltung@ref-olten.ch
DTSTAMP:20260310T210118Z
DESCRIPTION:Kontakt: Pfrn. Melanie Ludwig\, 062 212 48 84\n\nWeitere
  Infos: https://www.ref-olten.ch/veranstaltung/29440
SUMMARY:Trauercafé
PRIORITY:5
X-MICROSOFT-CDO-IMPORTANCE:1
CLASS:PUBLIC
END:VEVENT
END:VCALENDAR
