BEGIN:VCALENDAR
PRODID:-//kirchenweb.ch gmbh//veranstaltungsausgabe v2.0//DE
VERSION:2.0
METHOD:PUBLISH
BEGIN:VEVENT
DTSTART:20260321T160000Z
DTEND:20260321T170000Z
LOCATION:Johanneskirche\, Chäppeligass 39\, 4632 Trimbach
TRANSP:OPAQUE
SEQUENCE:0
UID:29474-veranstaltung@ref-olten.ch
DTSTAMP:20260314T110925Z
DESCRIPTION:Kontakt: Pfarrer Andreas Haag\, 062 293 32 42\n\nWeitere
  Infos: https://www.ref-olten.ch/veranstaltung/29474
SUMMARY:Doppelkonzert von "New Formation" und Gospelchor Trimbach
PRIORITY:5
X-MICROSOFT-CDO-IMPORTANCE:1
CLASS:PUBLIC
END:VEVENT
END:VCALENDAR
