BEGIN:VCALENDAR
PRODID:-//kirchenweb.ch gmbh//veranstaltungsausgabe v2.0//DE
VERSION:2.0
METHOD:PUBLISH
BEGIN:VEVENT
DTSTART:20261107T130000Z
DTEND:20261107T160000Z
LOCATION:Pauluskirche\, Grundstrasse 18\, 4600 Olten
TRANSP:OPAQUE
SEQUENCE:0
UID:29492-veranstaltung@ref-olten.ch
DTSTAMP:20260319T142132Z
DESCRIPTION:Kontakt: Beat Bachmann\, Diakonischer Mitarbeiter\, 076 522 41
  89\n\nWeitere Infos: https://www.ref-olten.ch/veranstaltung/29492
SUMMARY:Aktion Weihnachtspäckli
PRIORITY:5
X-MICROSOFT-CDO-IMPORTANCE:1
CLASS:PUBLIC
END:VEVENT
END:VCALENDAR
