BEGIN:VCALENDAR
PRODID:-//kirchenweb.ch gmbh//veranstaltungsausgabe v2.0//DE
VERSION:2.0
METHOD:PUBLISH
BEGIN:VEVENT
DTSTART:20260908T112000Z
DTEND:20260908T160000Z
LOCATION:Treffpunkt Bahnhof Kiosk\, \,
TRANSP:OPAQUE
SEQUENCE:0
UID:29513-veranstaltung@ref-olten.ch
DTSTAMP:20260326T112202Z
DESCRIPTION:Wanderung\nVorsicht: Startzeit kann abweichen. Bitte melden
  Sie sich an:\n\nKontakt: Margrit Gürel\, 079 503 67 61 Jürg Schlegel
  062 297 05 10\n\nWeitere Infos:
  https://www.ref-olten.ch/veranstaltung/29513
SUMMARY:aktiv 66+ Wandergruppe
PRIORITY:5
X-MICROSOFT-CDO-IMPORTANCE:1
CLASS:PUBLIC
END:VEVENT
END:VCALENDAR
