BEGIN:VCALENDAR
PRODID:-//kirchenweb.ch gmbh//veranstaltungsausgabe v2.0//DE
VERSION:2.0
METHOD:PUBLISH
BEGIN:VEVENT
DTSTART:20260418T160000Z
DTEND:20260418T200000Z
LOCATION:Zwinglikirche\, Kleinfeld 2A\, 4657 Dulliken
TRANSP:OPAQUE
SEQUENCE:0
UID:29526-veranstaltung@ref-olten.ch
DTSTAMP:20260327T084434Z
DESCRIPTION:Kontakt: Pfarrer Sascha Thiel\, 062 295 43 53\n\nWeitere
  Infos: https://www.ref-olten.ch/veranstaltung/29526
SUMMARY:Runder Tisch der Religionen
PRIORITY:5
X-MICROSOFT-CDO-IMPORTANCE:1
CLASS:PUBLIC
END:VEVENT
END:VCALENDAR
