BEGIN:VCALENDAR
PRODID:-//kirchenweb.ch gmbh//veranstaltungsausgabe v2.0//DE
VERSION:2.0
METHOD:PUBLISH
BEGIN:VEVENT
DTSTART:20261104T183000Z
DTEND:20261104T210000Z
LOCATION:Zwinglikirche\, Kleinfeld 2A\, 4657 Dulliken
TRANSP:OPAQUE
SEQUENCE:0
UID:29554-veranstaltung@ref-olten.ch
DTSTAMP:20260402T115810Z
DESCRIPTION:Kontakt: marlise.vogt@ref-olten.ch\n\nWeitere Infos:
  https://www.ref-olten.ch/veranstaltung/29554
SUMMARY:Heilfasten
PRIORITY:5
X-MICROSOFT-CDO-IMPORTANCE:1
CLASS:PUBLIC
END:VEVENT
END:VCALENDAR
