BEGIN:VCALENDAR
PRODID:-//kirchenweb.ch gmbh//veranstaltungsausgabe v2.0//DE
VERSION:2.0
METHOD:PUBLISH
BEGIN:VEVENT
DTSTART:20260521T123000Z
DTEND:20260521T143000Z
LOCATION:Friedenskirche\, Reiserstrasse 89\, 4600 Olten
TRANSP:OPAQUE
SEQUENCE:0
UID:29571-veranstaltung@ref-olten.ch
DTSTAMP:20260410T074829Z
DESCRIPTION:Gespräch über aktuelle Themen im Licht der Bibel bei einer
  Tasse Kaffee. \nDie Arche Noah: Was bedeutet diese Geschichte? Wie wurde
  sie im Neuen Testament aufgenommen? Noah als Trunkenbold?\n\n\nKontakt:
  Pfr. Uwe Kaiser\, 062 296 22 60\n\nWeitere Infos:
  https://www.ref-olten.ch/veranstaltung/29571
SUMMARY:Zwischenhalt aktiv 66+
PRIORITY:5
X-MICROSOFT-CDO-IMPORTANCE:1
CLASS:PUBLIC
END:VEVENT
END:VCALENDAR
