BEGIN:VCALENDAR
PRODID:-//kirchenweb.ch gmbh//veranstaltungsausgabe v2.0//DE
VERSION:2.0
METHOD:PUBLISH
BEGIN:VEVENT
DTSTART:20270307T160000Z
DTEND:20270307T170000Z
LOCATION:Pauluskirche\, Grundstrasse 18\, 4600 Olten
TRANSP:OPAQUE
SEQUENCE:0
UID:29598-veranstaltung@ref-olten.ch
DTSTAMP:20260421T073632Z
DESCRIPTION:Kontakt: Brigitte Salvisberg\n\nWeitere Infos:
  https://www.ref-olten.ch/veranstaltung/29598
SUMMARY:Abendmusik
PRIORITY:5
X-MICROSOFT-CDO-IMPORTANCE:1
CLASS:PUBLIC
END:VEVENT
END:VCALENDAR
