BEGIN:VCALENDAR
PRODID:-//kirchenweb.ch gmbh//veranstaltungsausgabe v2.0//DE
VERSION:2.0
METHOD:PUBLISH
BEGIN:VEVENT
DTSTART:20260430T110000Z
DTEND:20260430T150000Z
LOCATION:Pauluskirche\, Grundstrasse 18\, 4600 Olten
TRANSP:OPAQUE
SEQUENCE:0
UID:29600-veranstaltung@ref-olten.ch
DTSTAMP:20260421T073827Z
DESCRIPTION:Kontakt: brigitte.salvisberg@ref-olten.ch\n\nWeitere Infos:
  https://www.ref-olten.ch/veranstaltung/29600
SUMMARY:Klavierstimmer
PRIORITY:5
X-MICROSOFT-CDO-IMPORTANCE:1
CLASS:PUBLIC
END:VEVENT
END:VCALENDAR
