BEGIN:VCALENDAR
PRODID:-//kirchenweb.ch gmbh//veranstaltungsausgabe v2.0//DE
VERSION:2.0
METHOD:PUBLISH
BEGIN:VEVENT
DTSTART:20260918T170000Z
DTEND:20260918T190000Z
LOCATION:Johanneskirche\, Chäppeligass 39\, 4632 Trimbach
TRANSP:OPAQUE
SEQUENCE:0
UID:5721-veranstaltung@ref-olten.ch
DTSTAMP:20260122T083634Z
DESCRIPTION:Dankesfeier der Moms in Prayer Gruppen aus der Region.\nInfo:
  Ursula Rutschi-Probst\, 062 293 30 62 oder
  https://ursula.rutschi@ref-olten.ch\n\nMoms in Prayer ist eine
  überkonfessionelle\, internationale Gebetsbewegung von Müttern\, die
  sich wöchentlich in kleinen Gruppen zum gemeinsamen Gebet für ihre
  Kinder und deren Schulen treffen.\nDas gemeinsame Gebet macht uns stark\,
  schützt uns vor Entmutigung und erfüllt uns mit Hoffnung. Wir tragen
  nicht nur die Lasten gemeinsam sondern freuen uns auch gemeinsam über
  Gebetserhörungen. Weitere Infos: http://www.momsinprayer.ch\n\nKontakt:
  Ursula Rutschi-Probst\n\nWeitere Infos:
  https://www.ref-olten.ch/veranstaltung/5721
SUMMARY:Dankesfeier Moms in Prayer - untere Kantonsteil
PRIORITY:5
X-MICROSOFT-CDO-IMPORTANCE:1
CLASS:PUBLIC
END:VEVENT
END:VCALENDAR
