BEGIN:VCALENDAR
PRODID:-//kirchenweb.ch gmbh//veranstaltungsausgabe v2.0//DE
VERSION:2.0
METHOD:PUBLISH
BEGIN:VEVENT
DTSTART:20191122T183000Z
DTEND:20191122T193000Z
LOCATION:Evangelisch-Reformiertes Kirchgemeindehaus\, Grossmattstrasse 2\,
  4614 Hägendorf
TRANSP:OPAQUE
SEQUENCE:0
UID:7135-veranstaltung@ref-olten.ch
DTSTAMP:20191119T091820Z
DESCRIPTION:Spurensuche eines Astrophysikers\n\nSpannung und
  Unterhaltung:Wo Spuren zu finden sind\, da muss auch jemand Spuren
  hinterlassen haben. Kosmische Realität.\n\nIn der frühen Neuzeit
  beginnen sich die Naturwissenschaften von der theologischen Weltdeutung
  zu emanzipieren. Man ging davon aus\, dass das "Wissen der
  Naturwissenschaft" dem "Glauben die Welt zu erklären". Am Ende führt
  das bisher Erreichte zu einem erheblichen Staunen\, was wiederum der
  Anfang ist für einen neuen "Blick hinter die Kulissen".\n\nReferent:
  Norbert Pailer\, Astrophysiker\n\nKontakt: Pfarrer Bruno Waldvogel\, 062
  212 67 08\n\nWeitere Infos: https://www.ref-olten.ch/veranstaltung/7135
SUMMARY:Der vermessene Kosmos - Spurensuche eines Astrophysikers
PRIORITY:5
X-MICROSOFT-CDO-IMPORTANCE:1
CLASS:PUBLIC
END:VEVENT
END:VCALENDAR
